Package: Site2Target Version: 1.1.0 Command: /home/biocbuild/bbs-3.22-bioc/R/bin/R CMD build --keep-empty-dirs --no-resave-data --md5 Site2Target StartedAt: 2025-10-24 20:17:09 -0400 (Fri, 24 Oct 2025) EndedAt: 2025-10-24 20:17:38 -0400 (Fri, 24 Oct 2025) EllapsedTime: 29.0 seconds RetCode: 0 Status: OK PackageFile: Site2Target_1.1.0.tar.gz PackageFileSize: 443.3 KiB