Package: SingleMoleculeFootprinting Version: 2.3.2 Command: /home/biocbuild/bbs-3.22-bioc/R/bin/R CMD INSTALL SingleMoleculeFootprinting StartedAt: 2025-10-24 16:10:34 -0400 (Fri, 24 Oct 2025) EndedAt: 2025-10-24 16:11:25 -0400 (Fri, 24 Oct 2025) EllapsedTime: 50.7 seconds RetCode: 0 Status: OK