Package: SingleMoleculeFootprinting Version: 2.3.2 Command: /home/biocbuild/bbs-3.22-bioc/R/bin/R CMD build --keep-empty-dirs --no-resave-data --md5 SingleMoleculeFootprinting StartedAt: 2025-10-24 20:16:07 -0400 (Fri, 24 Oct 2025) EndedAt: 2025-10-24 20:19:07 -0400 (Fri, 24 Oct 2025) EllapsedTime: 180.1 seconds RetCode: 0 Status: OK PackageFile: SingleMoleculeFootprinting_2.3.2.tar.gz PackageFileSize: 3.909 MiB