Package: SingleCellSignalR Version: 1.99.1 Command: /home/biocbuild/R/R/bin/R CMD INSTALL SingleCellSignalR StartedAt: 2025-10-23 21:25:35 -0000 (Thu, 23 Oct 2025) EndedAt: 2025-10-23 21:26:44 -0000 (Thu, 23 Oct 2025) EllapsedTime: 68.8 seconds RetCode: 0 Status: OK