Package: SingleCellSignalR Version: 1.99.1 Command: /home/biocbuild/R/R/bin/R CMD build --keep-empty-dirs --no-resave-data SingleCellSignalR StartedAt: 2025-10-21 03:13:34 -0000 (Tue, 21 Oct 2025) EndedAt: 2025-10-21 03:15:06 -0000 (Tue, 21 Oct 2025) EllapsedTime: 92.0 seconds RetCode: 0 Status: OK PackageFile: SingleCellSignalR_1.99.1.tar.gz PackageFileSize: 174.8 KiB