Package: SingleCellSignalR Version: 1.99.1 Command: /home/biocbuild/bbs-3.22-bioc/R/bin/R CMD check --install=check:SingleCellSignalR.install-out.txt --library=/home/biocbuild/bbs-3.22-bioc/R/site-library --timings SingleCellSignalR_1.99.1.tar.gz StartedAt: 2025-10-28 04:12:47 -0400 (Tue, 28 Oct 2025) EndedAt: 2025-10-28 04:18:33 -0400 (Tue, 28 Oct 2025) EllapsedTime: 345.3 seconds RetCode: 0 Status: WARNINGS CheckDir: SingleCellSignalR.Rcheck Warnings: 1