Package: SingleCellSignalR Version: 1.99.1 Command: /Library/Frameworks/R.framework/Resources/bin/R CMD INSTALL SingleCellSignalR StartedAt: 2025-10-24 15:58:50 -0400 (Fri, 24 Oct 2025) EndedAt: 2025-10-24 15:59:52 -0400 (Fri, 24 Oct 2025) EllapsedTime: 61.9 seconds RetCode: 0 Status: OK