Package: SingleCellSignalR Version: 1.99.1 Maintainer: Jean-Philippe Villemin MaintainerEmail: jpvillemin at gmail.com git_url: https://git.bioconductor.org/packages/SingleCellSignalR git_branch: devel git_last_commit: 417c87a git_last_commit_date: 2025-10-01 07:13:36 -0400 (Wed, 01 Oct 2025)