Package: SingleCellExperiment Version: 1.31.1 Command: /home/biocbuild/bbs-3.22-bioc/R/bin/R CMD build --keep-empty-dirs --no-resave-data --md5 SingleCellExperiment StartedAt: 2025-10-24 20:15:50 -0400 (Fri, 24 Oct 2025) EndedAt: 2025-10-24 20:17:01 -0400 (Fri, 24 Oct 2025) EllapsedTime: 71.1 seconds RetCode: 0 Status: OK PackageFile: SingleCellExperiment_1.31.1.tar.gz PackageFileSize: 964.9 KiB