Package: SingleCellExperiment Version: 1.32.0 Command: /Library/Frameworks/R.framework/Resources/bin/R CMD INSTALL SingleCellExperiment StartedAt: 2025-10-31 15:15:33 -0400 (Fri, 31 Oct 2025) EndedAt: 2025-10-31 15:15:43 -0400 (Fri, 31 Oct 2025) EllapsedTime: 10.1 seconds RetCode: 0 Status: OK