Package: SingleCellExperiment Version: 1.32.0 Command: /Library/Frameworks/R.framework/Resources/bin/R CMD build --keep-empty-dirs --no-resave-data SingleCellExperiment StartedAt: 2025-11-02 17:46:09 -0500 (Sun, 02 Nov 2025) EndedAt: 2025-11-02 17:46:40 -0500 (Sun, 02 Nov 2025) EllapsedTime: 31.3 seconds RetCode: 0 Status: OK PackageFile: SingleCellExperiment_1.32.0.tar.gz PackageFileSize: 962.2 KiB