Package: SingleCellExperiment Version: 1.32.0 Command: rm -rf SingleCellExperiment.buildbin-libdir && mkdir SingleCellExperiment.buildbin-libdir && /Users/biocbuild/BBS/utils/build-universal.sh SingleCellExperiment_1.32.0.tar.gz /Library/Frameworks/R.framework/Resources/bin/R SingleCellExperiment.buildbin-libdir StartedAt: 2025-11-04 23:20:42 -0500 (Tue, 04 Nov 2025) EndedAt: 2025-11-04 23:20:53 -0500 (Tue, 04 Nov 2025) EllapsedTime: 11.2 seconds RetCode: 0 Status: OK PackageFile: SingleCellExperiment_1.32.0.tgz PackageFileSize: 1.917 MiB