Package: SingleCellAlleleExperiment Version: 1.5.1 Command: /home/biocbuild/bbs-3.22-bioc/R/bin/R CMD INSTALL SingleCellAlleleExperiment StartedAt: 2025-10-27 15:21:44 -0400 (Mon, 27 Oct 2025) EndedAt: 2025-10-27 15:22:08 -0400 (Mon, 27 Oct 2025) EllapsedTime: 24.0 seconds RetCode: 0 Status: OK