Package: SingleCellAlleleExperiment Version: 1.5.1 Command: /Library/Frameworks/R.framework/Resources/bin/R CMD INSTALL SingleCellAlleleExperiment StartedAt: 2025-10-27 15:12:13 -0400 (Mon, 27 Oct 2025) EndedAt: 2025-10-27 15:12:23 -0400 (Mon, 27 Oct 2025) EllapsedTime: 9.9 seconds RetCode: 0 Status: OK