Package: SingleCellAlleleExperiment Version: 1.5.1 Command: /Library/Frameworks/R.framework/Resources/bin/R CMD build --keep-empty-dirs --no-resave-data SingleCellAlleleExperiment StartedAt: 2025-10-27 17:45:16 -0400 (Mon, 27 Oct 2025) EndedAt: 2025-10-27 17:47:57 -0400 (Mon, 27 Oct 2025) EllapsedTime: 160.8 seconds RetCode: 0 Status: OK PackageFile: SingleCellAlleleExperiment_1.5.1.tar.gz PackageFileSize: 2.589 MiB