Package: SingleCellAlleleExperiment Version: 1.5.1 Command: rm -rf SingleCellAlleleExperiment.buildbin-libdir && mkdir SingleCellAlleleExperiment.buildbin-libdir && /Users/biocbuild/BBS/utils/build-universal.sh SingleCellAlleleExperiment_1.5.1.tar.gz /Library/Frameworks/R.framework/Resources/bin/R SingleCellAlleleExperiment.buildbin-libdir StartedAt: 2025-10-27 23:19:39 -0400 (Mon, 27 Oct 2025) EndedAt: 2025-10-27 23:19:50 -0400 (Mon, 27 Oct 2025) EllapsedTime: 11.2 seconds RetCode: 0 Status: OK PackageFile: SingleCellAlleleExperiment_1.5.1.tgz PackageFileSize: 2.033 MiB