Package: SimFFPE Version: 1.21.0 Command: /home/biocbuild/bbs-3.22-bioc/R/bin/R CMD build --keep-empty-dirs --no-resave-data --md5 SimFFPE StartedAt: 2025-10-24 20:14:22 -0400 (Fri, 24 Oct 2025) EndedAt: 2025-10-24 20:15:59 -0400 (Fri, 24 Oct 2025) EllapsedTime: 97.1 seconds RetCode: 0 Status: OK PackageFile: SimFFPE_1.21.0.tar.gz PackageFileSize: 752 KiB