Package: SimFFPE Version: 1.22.0 Command: /Library/Frameworks/R.framework/Resources/bin/R CMD build --keep-empty-dirs --no-resave-data SimFFPE StartedAt: 2025-11-03 18:48:53 -0500 (Mon, 03 Nov 2025) EndedAt: 2025-11-03 18:50:47 -0500 (Mon, 03 Nov 2025) EllapsedTime: 114.0 seconds RetCode: 0 Status: OK PackageFile: SimFFPE_1.22.0.tar.gz PackageFileSize: 748.5 KiB