Package: SimFFPE Version: 1.21.0 Command: /Library/Frameworks/R.framework/Resources/bin/R CMD INSTALL SimFFPE StartedAt: 2025-10-24 15:13:28 -0400 (Fri, 24 Oct 2025) EndedAt: 2025-10-24 15:13:34 -0400 (Fri, 24 Oct 2025) EllapsedTime: 5.8 seconds RetCode: 0 Status: OK