Package: SimFFPE Version: 1.22.0 Maintainer: Lanying Wei MaintainerEmail: lanying.wei at uni-muenster.de git_url: https://git.bioconductor.org/packages/SimFFPE git_branch: RELEASE_3_22 git_last_commit: 9123bff git_last_commit_date: 2025-10-29 10:56:29 -0500 (Wed, 29 Oct 2025)