Package: SimBu Version: 1.11.0 Command: /home/biocbuild/bbs-3.22-bioc/R/bin/R CMD build --keep-empty-dirs --no-resave-data --md5 SimBu StartedAt: 2025-10-27 20:06:04 -0400 (Mon, 27 Oct 2025) EndedAt: 2025-10-27 20:06:46 -0400 (Mon, 27 Oct 2025) EllapsedTime: 42.0 seconds RetCode: 0 Status: OK PackageFile: SimBu_1.11.0.tar.gz PackageFileSize: 218.1 KiB