Package: SimBu Version: 1.12.0 Command: /Library/Frameworks/R.framework/Resources/bin/R CMD INSTALL SimBu StartedAt: 2025-10-31 15:14:58 -0400 (Fri, 31 Oct 2025) EndedAt: 2025-10-31 15:15:01 -0400 (Fri, 31 Oct 2025) EllapsedTime: 3.2 seconds RetCode: 0 Status: OK