Package: SimBu Version: 1.12.0 Command: /Library/Frameworks/R.framework/Resources/bin/R CMD build --keep-empty-dirs --no-resave-data SimBu StartedAt: 2025-11-02 17:45:25 -0500 (Sun, 02 Nov 2025) EndedAt: 2025-11-02 17:45:45 -0500 (Sun, 02 Nov 2025) EllapsedTime: 20.2 seconds RetCode: 0 Status: OK PackageFile: SimBu_1.12.0.tar.gz PackageFileSize: 221.5 KiB