Package: SigsPack Version: 1.23.0 Command: /home/biocbuild/bbs-3.22-bioc/R/bin/R CMD build --keep-empty-dirs --no-resave-data --md5 SigsPack StartedAt: 2025-10-24 20:13:54 -0400 (Fri, 24 Oct 2025) EndedAt: 2025-10-24 20:15:27 -0400 (Fri, 24 Oct 2025) EllapsedTime: 92.1 seconds RetCode: 0 Status: OK PackageFile: SigsPack_1.23.0.tar.gz PackageFileSize: 514.9 KiB