Package: SigCheck Version: 2.41.0 Command: /home/biocbuild/bbs-3.22-bioc/R/bin/R CMD INSTALL SigCheck StartedAt: 2025-10-24 15:39:34 -0400 (Fri, 24 Oct 2025) EndedAt: 2025-10-24 15:40:04 -0400 (Fri, 24 Oct 2025) EllapsedTime: 29.0 seconds RetCode: 0 Status: OK