Package: SigCheck Version: 2.42.0 Command: /Library/Frameworks/R.framework/Resources/bin/R CMD build --keep-empty-dirs --no-resave-data SigCheck StartedAt: 2025-11-03 18:48:00 -0500 (Mon, 03 Nov 2025) EndedAt: 2025-11-03 18:49:12 -0500 (Mon, 03 Nov 2025) EllapsedTime: 72.8 seconds RetCode: 0 Status: OK PackageFile: SigCheck_2.42.0.tar.gz PackageFileSize: 368.3 KiB