Package: SigCheck Version: 2.41.0 Command: /Library/Frameworks/R.framework/Resources/bin/R CMD INSTALL SigCheck StartedAt: 2025-10-24 15:15:58 -0400 (Fri, 24 Oct 2025) EndedAt: 2025-10-24 15:16:09 -0400 (Fri, 24 Oct 2025) EllapsedTime: 11.6 seconds RetCode: 0 Status: OK