Package: SigCheck Version: 2.42.0 Maintainer: Rory Stark MaintainerEmail: bioconductor at starkhome.com git_url: https://git.bioconductor.org/packages/SigCheck git_branch: RELEASE_3_22 git_last_commit: 5d4b11a git_last_commit_date: 2025-10-29 10:22:19 -0400 (Wed, 29 Oct 2025)