Package: SiPSiC Version: 1.9.0 Command: /home/biocbuild/bbs-3.22-bioc/R/bin/R CMD INSTALL SiPSiC StartedAt: 2025-10-24 15:31:34 -0400 (Fri, 24 Oct 2025) EndedAt: 2025-10-24 15:31:56 -0400 (Fri, 24 Oct 2025) EllapsedTime: 22.7 seconds RetCode: 0 Status: OK