Package: ShortRead Version: 1.67.1 Command: /home/biocbuild/bbs-3.22-bioc/R/bin/R CMD INSTALL ShortRead StartedAt: 2025-10-24 16:01:31 -0400 (Fri, 24 Oct 2025) EndedAt: 2025-10-24 16:02:19 -0400 (Fri, 24 Oct 2025) EllapsedTime: 47.1 seconds RetCode: 0 Status: OK