Package: SharedObject Version: 1.23.0 Command: /home/biocbuild/bbs-3.22-bioc/R/bin/R CMD check --install=check:SharedObject.install-out.txt --library=/home/biocbuild/bbs-3.22-bioc/R/site-library --timings SharedObject_1.23.0.tar.gz StartedAt: 2025-10-25 04:08:12 -0400 (Sat, 25 Oct 2025) EndedAt: 2025-10-25 04:09:34 -0400 (Sat, 25 Oct 2025) EllapsedTime: 82.0 seconds RetCode: 0 Status: WARNINGS CheckDir: SharedObject.Rcheck Warnings: 2