Package: SharedObject Version: 1.23.0 Command: /home/biocbuild/bbs-3.22-bioc/R/bin/R CMD build --keep-empty-dirs --no-resave-data --md5 SharedObject StartedAt: 2025-10-24 20:12:21 -0400 (Fri, 24 Oct 2025) EndedAt: 2025-10-24 20:13:00 -0400 (Fri, 24 Oct 2025) EllapsedTime: 39.0 seconds RetCode: 0 Status: OK PackageFile: SharedObject_1.23.0.tar.gz PackageFileSize: 2.828 MiB