Package: SharedObject Version: 1.23.0 Command: /Library/Frameworks/R.framework/Resources/bin/R CMD INSTALL SharedObject StartedAt: 2025-10-24 15:21:48 -0400 (Fri, 24 Oct 2025) EndedAt: 2025-10-24 15:22:24 -0400 (Fri, 24 Oct 2025) EllapsedTime: 36.0 seconds RetCode: 0 Status: OK