Package: SharedObject Version: 1.23.0 Command: /Library/Frameworks/R.framework/Resources/bin/R CMD check --install=check:SharedObject.install-out.txt --library=/Library/Frameworks/R.framework/Resources/library --no-vignettes --timings SharedObject_1.23.0.tar.gz StartedAt: 2025-10-27 22:03:44 -0400 (Mon, 27 Oct 2025) EndedAt: 2025-10-27 22:04:17 -0400 (Mon, 27 Oct 2025) EllapsedTime: 33.4 seconds RetCode: 0 Status: WARNINGS CheckDir: SharedObject.Rcheck Warnings: 2