Package: SharedObject Version: 1.23.0 Command: /Library/Frameworks/R.framework/Resources/bin/R CMD build --keep-empty-dirs --no-resave-data SharedObject StartedAt: 2025-10-24 17:44:49 -0400 (Fri, 24 Oct 2025) EndedAt: 2025-10-24 17:45:06 -0400 (Fri, 24 Oct 2025) EllapsedTime: 17.2 seconds RetCode: 0 Status: OK PackageFile: SharedObject_1.23.0.tar.gz PackageFileSize: 1.886 MiB