Package: Seqinfo Version: 0.99.3 Command: /home/biocbuild/bbs-3.22-bioc/R/bin/R CMD INSTALL Seqinfo StartedAt: 2025-10-24 15:24:54 -0400 (Fri, 24 Oct 2025) EndedAt: 2025-10-24 15:25:04 -0400 (Fri, 24 Oct 2025) EllapsedTime: 9.5 seconds RetCode: 0 Status: OK