Package: Seqinfo Version: 0.99.3 Command: /home/biocbuild/bbs-3.22-bioc/R/bin/R CMD build --keep-empty-dirs --no-resave-data --md5 Seqinfo StartedAt: 2025-10-24 20:10:47 -0400 (Fri, 24 Oct 2025) EndedAt: 2025-10-24 20:11:11 -0400 (Fri, 24 Oct 2025) EllapsedTime: 24.0 seconds RetCode: 0 Status: OK PackageFile: Seqinfo_0.99.3.tar.gz PackageFileSize: 248.7 KiB