Package: SeqVarTools Version: 1.48.0 Command: /Library/Frameworks/R.framework/Resources/bin/R CMD build --keep-empty-dirs --no-resave-data SeqVarTools StartedAt: 2025-10-31 18:49:07 -0400 (Fri, 31 Oct 2025) EndedAt: 2025-10-31 18:50:06 -0400 (Fri, 31 Oct 2025) EllapsedTime: 59.4 seconds RetCode: 0 Status: OK PackageFile: SeqVarTools_1.48.0.tar.gz PackageFileSize: 1001 KiB