Package: SeqVarTools Version: 1.47.0 Command: rm -rf SeqVarTools.buildbin-libdir && mkdir SeqVarTools.buildbin-libdir && /Users/biocbuild/BBS/utils/build-universal.sh SeqVarTools_1.47.0.tar.gz /Library/Frameworks/R.framework/Resources/bin/R SeqVarTools.buildbin-libdir StartedAt: 2025-10-24 23:19:44 -0400 (Fri, 24 Oct 2025) EndedAt: 2025-10-24 23:19:53 -0400 (Fri, 24 Oct 2025) EllapsedTime: 9.2 seconds RetCode: 0 Status: OK PackageFile: SeqVarTools_1.47.0.tgz PackageFileSize: 1.43 MiB