Package: SeqVarTools Version: 1.48.0 Maintainer: Stephanie M. Gogarten MaintainerEmail: sdmorris at uw.edu git_url: https://git.bioconductor.org/packages/SeqVarTools git_branch: RELEASE_3_22 git_last_commit: cefddfd git_last_commit_date: 2025-10-29 10:15:55 -0400 (Wed, 29 Oct 2025)