Package: SeqSQC Version: 1.31.0 Command: /home/biocbuild/bbs-3.22-bioc/R/bin/R CMD INSTALL SeqSQC StartedAt: 2025-10-24 15:37:01 -0400 (Fri, 24 Oct 2025) EndedAt: 2025-10-24 15:37:22 -0400 (Fri, 24 Oct 2025) EllapsedTime: 20.8 seconds RetCode: 0 Status: OK