Package: SeqSQC Version: 1.31.0 Command: /home/biocbuild/bbs-3.22-bioc/R/bin/R CMD build --keep-empty-dirs --no-resave-data --md5 SeqSQC StartedAt: 2025-10-24 20:11:11 -0400 (Fri, 24 Oct 2025) EndedAt: 2025-10-24 20:12:07 -0400 (Fri, 24 Oct 2025) EllapsedTime: 56.1 seconds RetCode: 0 Status: OK PackageFile: SeqSQC_1.31.0.tar.gz PackageFileSize: 4.492 MiB