Package: SeqSQC Version: 1.31.0 Command: /Library/Frameworks/R.framework/Resources/bin/R CMD INSTALL SeqSQC StartedAt: 2025-10-24 15:13:17 -0400 (Fri, 24 Oct 2025) EndedAt: 2025-10-24 15:13:26 -0400 (Fri, 24 Oct 2025) EllapsedTime: 8.9 seconds RetCode: 0 Status: OK