Package: SeqSQC Version: 1.31.0 Command: rm -rf SeqSQC.buildbin-libdir && mkdir SeqSQC.buildbin-libdir && /Users/biocbuild/BBS/utils/build-universal.sh SeqSQC_1.31.0.tar.gz /Library/Frameworks/R.framework/Resources/bin/R SeqSQC.buildbin-libdir StartedAt: 2025-10-24 23:19:44 -0400 (Fri, 24 Oct 2025) EndedAt: 2025-10-24 23:19:53 -0400 (Fri, 24 Oct 2025) EllapsedTime: 9.2 seconds RetCode: 0 Status: OK PackageFile: SeqSQC_1.31.0.tgz PackageFileSize: 4.853 MiB