Package: SeqGate Version: 1.19.0 Command: /home/biocbuild/bbs-3.22-bioc/R/bin/R CMD INSTALL SeqGate StartedAt: 2025-10-24 15:28:11 -0400 (Fri, 24 Oct 2025) EndedAt: 2025-10-24 15:28:30 -0400 (Fri, 24 Oct 2025) EllapsedTime: 19.1 seconds RetCode: 0 Status: OK