Package: SeqGate Version: 1.20.0 Command: /Library/Frameworks/R.framework/Resources/bin/R CMD INSTALL SeqGate StartedAt: 2025-10-31 15:27:38 -0400 (Fri, 31 Oct 2025) EndedAt: 2025-10-31 15:28:06 -0400 (Fri, 31 Oct 2025) EllapsedTime: 27.8 seconds RetCode: 0 Status: OK