Package: SeqGate Version: 1.20.0 Command: /Library/Frameworks/R.framework/Resources/bin/R CMD build --keep-empty-dirs --no-resave-data SeqGate StartedAt: 2025-10-31 18:48:29 -0400 (Fri, 31 Oct 2025) EndedAt: 2025-10-31 18:49:26 -0400 (Fri, 31 Oct 2025) EllapsedTime: 57.0 seconds RetCode: 0 Status: OK PackageFile: SeqGate_1.20.0.tar.gz PackageFileSize: 248.5 KiB