Package: SeqGate Version: 1.20.0 Command: rm -rf SeqGate.buildbin-libdir && mkdir SeqGate.buildbin-libdir && /Users/biocbuild/BBS/utils/build-universal.sh SeqGate_1.20.0.tar.gz /Library/Frameworks/R.framework/Resources/bin/R SeqGate.buildbin-libdir StartedAt: 2025-11-01 01:57:35 -0400 (Sat, 01 Nov 2025) EndedAt: 2025-11-01 01:58:05 -0400 (Sat, 01 Nov 2025) EllapsedTime: 30.0 seconds RetCode: 0 Status: OK PackageFile: SeqGate_1.20.0.tgz PackageFileSize: 265.3 KiB