Package: SeqGate Version: 1.19.0 Command: /Library/Frameworks/R.framework/Resources/bin/R CMD INSTALL SeqGate StartedAt: 2025-10-24 15:14:04 -0400 (Fri, 24 Oct 2025) EndedAt: 2025-10-24 15:14:13 -0400 (Fri, 24 Oct 2025) EllapsedTime: 8.4 seconds RetCode: 0 Status: OK