Package: SeqGate Version: 1.19.0 Command: /Library/Frameworks/R.framework/Resources/bin/R CMD build --keep-empty-dirs --no-resave-data SeqGate StartedAt: 2025-10-24 17:43:59 -0400 (Fri, 24 Oct 2025) EndedAt: 2025-10-24 17:44:18 -0400 (Fri, 24 Oct 2025) EllapsedTime: 19.2 seconds RetCode: 0 Status: OK PackageFile: SeqGate_1.19.0.tar.gz PackageFileSize: 248.7 KiB